BEGIN:VCALENDAR
VERSION:2.0
PRODID:EVENTFROG//EVENT//ICAL
BEGIN:VEVENT
UID:20260424T063657Z-7452115920128850938@eventfrog.ch
DTSTAMP:20260424T063657Z
DTSTART:20260516T160000Z
SUMMARY:Toni Vescoli – solo
DESCRIPTION:Hand- und fussgemachte Musik.\n\nhttps://eventfrog.ch/de/p/konzerte/toni-vescoli-solo-7452115920128850938.html
LOCATION:Kul-Tour auf Vögelinsegg
GEO:47.417008;9.438247
URL:https://eventfrog.ch/de/p/konzerte/toni-vescoli-solo-7452115920128850938.html
END:VEVENT
END:VCALENDAR