BEGIN:VCALENDAR
VERSION:2.0
PRODID:EVENTFROG//EVENT//ICAL
BEGIN:VEVENT
UID:20260424T075559Z-7452115920485366783@eventfrog.ch
DTSTAMP:20260424T075559Z
DTSTART:20260515T220000Z
DTEND:20260920T215900Z
SUMMARY:Spuren – Fährten, Frass und Federn
DESCRIPTION:Spuren - Fährten, Frass und Federn\n\nhttps://eventfrog.ch/de/p/wissenschaft-und-technik/spuren-faehrten-frass-und-federn-7452115920485366783.html
LOCATION:Naturmuseum St.Gallen
GEO:47.439470;9.408700
URL:https://eventfrog.ch/de/p/wissenschaft-und-technik/spuren-faehrten-frass-und-federn-7452115920485366783.html
END:VEVENT
END:VCALENDAR