BEGIN:VCALENDAR
VERSION:2.0
PRODID:EVENTFROG//EVENT//ICAL
BEGIN:VEVENT
UID:20260424T072127Z-7452211839461522223@eventfrog.ch
DTSTAMP:20260424T072127Z
DTSTART:20260808T174500Z
DTEND:20260808T215900Z
SUMMARY:Kreuzlinger Seenachtsfest
DESCRIPTION:Erleben Sie das spektakuläre Feuerwerk auf unserem Schiff.\n\n\nhttps://eventfrog.ch/de/p/essen-trinken/kreuzlinger-seenachtsfest-7452211839461522223.html
LOCATION:Schweizerische Bodensee-Schifffahrt AG
GEO:47.564596;9.380165
URL:https://eventfrog.ch/de/p/essen-trinken/kreuzlinger-seenachtsfest-7452211839461522223.html
END:VEVENT
END:VCALENDAR