BEGIN:VCALENDAR
VERSION:2.0
PRODID:EVENTFROG//EVENT//ICAL
BEGIN:VEVENT
UID:20260424T081845Z-7452234955436908090@eventfrog.ch
DTSTAMP:20260424T081845Z
DTSTART:20260510T093000Z
DTEND:20260510T113000Z
SUMMARY:Визит на Lausanne ART FAIR 2026 с экспертом
DESCRIPTION:Визит на ярмарку современного искусства Lausanne ART FAIR 2026 с художницей и искусствоведом Марией Тюлер\n\nhttps://eventfrog.ch/en/p/art-exhibitions/exhibition/lausanne-art-fair-2026-7452234955436908090.html
LOCATION:Beaulieu Lausanne
GEO:46.529435;6.623158
URL:https://eventfrog.ch/en/p/art-exhibitions/exhibition/lausanne-art-fair-2026-7452234955436908090.html
END:VEVENT
END:VCALENDAR