BEGIN:VCALENDAR
VERSION:2.0
PRODID:EVENTFROG//EVENT//ICAL
BEGIN:VEVENT
UID:20260424T063659Z-7452238180898578674@eventfrog.ch
DTSTAMP:20260424T063659Z
DTSTART:20260429T180000Z
DTEND:20260429T210000Z
SUMMARY:Ohalätz Lisa Stoll Paul Flück Chrisian Freiburghaus
DESCRIPTION:Mittwoch, 29. April 2026, 20.00 Uhr\nRestaurant zur Säge Rinderbach\n3418 Ruegsbach - 034 461 12 14 - Www.sagi-rinderbach.ch\nCha toa\nLISA STOLL\nOHALÄTZ\nmit Paul Flück und Christian Freiburghaus\n\nhttps://eventfrog.ch/de/p/konzerte/schlager-volksmusik/ohalaetz-lisa-stoll-paul-flueck-chrisian-freiburghaus-7452238180898578674.html
LOCATION:Rinderbach 569
GEO:47.052811;7.694357
URL:https://eventfrog.ch/de/p/konzerte/schlager-volksmusik/ohalaetz-lisa-stoll-paul-flueck-chrisian-freiburghaus-7452238180898578674.html
END:VEVENT
END:VCALENDAR