BEGIN:VCALENDAR
VERSION:2.0
PRODID:EVENTFROG//EVENT//ICAL
BEGIN:VEVENT
UID:20260424T051557Z-7452238342467368184@eventfrog.ch
DTSTAMP:20260424T051557Z
DTSTART:20260530T210000Z
DTEND:20260531T030000Z
SUMMARY:AFRO KUTHU
DESCRIPTION:Ein Special Guest DJ aus UK vereint Afro Beats mit Tamil Kuthu für eine energiegeladene Clubnacht in Basel.\n\nhttps://eventfrog.ch/de/p/partys/sonstige-partys/afro-kuthu-7452238342467368184.html
LOCATION:Alice Club
GEO:47.555726;7.590218
URL:https://eventfrog.ch/de/p/partys/sonstige-partys/afro-kuthu-7452238342467368184.html
END:VEVENT
END:VCALENDAR