BEGIN:VCALENDAR
VERSION:2.0
PRODID:EVENTFROG//EVENT//ICAL
BEGIN:VEVENT
UID:20260424T094207Z-7452244757399521433@eventfrog.ch
DTSTAMP:20260424T094207Z
DTSTART:20260911T150000Z
DTEND:20260911T170000Z
SUMMARY:Diplomfeier HF Pflege des BGS Chur 2026
DESCRIPTION:Diplomfeier des Bildungsganges HF Pflege 22 am BGS Chur.\n\nhttps://eventfrog.ch/de/p/diverses/diplomfeier-hf-pflege-des-bgs-chur-2026-7452244757399521433.html
LOCATION:GKB Auditorium
GEO:46.851097;9.529123
URL:https://eventfrog.ch/de/p/diverses/diplomfeier-hf-pflege-des-bgs-chur-2026-7452244757399521433.html
END:VEVENT
END:VCALENDAR