BEGIN:VCALENDAR
VERSION:2.0
PRODID:EVENTFROG//EVENT//ICAL
BEGIN:VEVENT
UID:20260425T123302Z-7452251147924948768@eventfrog.ch
DTSTAMP:20260425T123302Z
DTSTART:20260614T090000Z
DTEND:20260614T110000Z
SUMMARY:Soul Sunday im Yogahaus am Wald
DESCRIPTION:Am 14.6. biete ich im  Yoga-Haus am Wald eine zweistündige Breathwork- und Soundhealing-Session für persönliche Entspannung an.\n\nhttps://eventfrog.ch/de/p/kurse-seminare/sonstige-kurse-seminare/soul-sunday-im-yogahaus-am-wald-7452251147924948768.html
LOCATION:Yogahaus am Wald
GEO:50.817011;7.989192
URL:https://eventfrog.ch/de/p/kurse-seminare/sonstige-kurse-seminare/soul-sunday-im-yogahaus-am-wald-7452251147924948768.html
END:VEVENT
END:VCALENDAR