BEGIN:VCALENDAR
VERSION:2.0
PRODID:EVENTFROG//EVENT//ICAL
BEGIN:VEVENT
UID:20260424T063559Z-7452253565022660359@eventfrog.ch
DTSTAMP:20260424T063559Z
DTSTART:20260626T164000Z
DTEND:20260626T170000Z
SUMMARY:Feierabendmusik
DESCRIPTION:Der AGIOS-Chor singt unter Leitung von Gunhard Mattes sowie Bernhard Hörler am Klavier nebst anderen Liedern die Vertonung des Hymnus 'O salutaris hostia' von drei bedeutenden Komponisten.\n\nhttps://eventfrog.ch/de/p/konzerte/chor/feierabendmusik-7452253565022660359.html
LOCATION:Katholische Kirche St. Agatha
GEO:47.405073;8.404072
URL:https://eventfrog.ch/de/p/konzerte/chor/feierabendmusik-7452253565022660359.html
END:VEVENT
END:VCALENDAR