BEGIN:VCALENDAR
VERSION:2.0
PRODID:EVENTFROG//EVENT//ICAL
BEGIN:VEVENT
UID:20260424T063648Z-7452258938274213117@eventfrog.ch
DTSTAMP:20260424T063648Z
DTSTART:20260621T093000Z
DTEND:20260621T103000Z
SUMMARY:Sonntagsführung
DESCRIPTION:Sonntagsführung durch die Ausstellung «HAP Grieshaber – Einschnitt  Ausdruck. Sammlung Würth»\n\nhttps://eventfrog.ch/en/p/art-exhibitions/other-art-events/sonntagsfuehrung-7452258938274213117.html
LOCATION:Forum Würth Arlesheim
GEO:47.497009;7.607158
URL:https://eventfrog.ch/en/p/art-exhibitions/other-art-events/sonntagsfuehrung-7452258938274213117.html
END:VEVENT
END:VCALENDAR