BEGIN:VCALENDAR
VERSION:2.0
PRODID:EVENTFROG//EVENT//ICAL
BEGIN:VEVENT
UID:20260424T163901Z-7452259418840815705@eventfrog.ch
DTSTAMP:20260424T163901Z
DTSTART:20261125T180000Z
DTEND:20261125T210000Z
SUMMARY:dieMALBAR — Sujet: 'Ruf des Meers'
DESCRIPTION:Kreatives Malen mit Anleitung, Drinks und Fingerfood - eine unterhaltsame Zeit erwartet dich! Für Anfänger und Fortgeschrittene\n\nhttps://eventfrog.ch/de/p/kunst-ausstellungen/kultur/diemalbar-sujet-ruf-des-meers-7452259418840815705.html
LOCATION:Bahnhof Bruggen
GEO:47.407234;9.329675
URL:https://eventfrog.ch/de/p/kunst-ausstellungen/kultur/diemalbar-sujet-ruf-des-meers-7452259418840815705.html
END:VEVENT
END:VCALENDAR