BEGIN:VCALENDAR
VERSION:2.0
PRODID:EVENTFROG//EVENT//ICAL
BEGIN:VEVENT
UID:20260424T094230Z-7452262180391505691@eventfrog.ch
DTSTAMP:20260424T094230Z
DTSTART:20270318T190000Z
DTEND:20270318T204500Z
SUMMARY:Hubert von Goisern
DESCRIPTION:Hubert von Goisern zeigt 2027 im Volkshaus Zürich und Kursaal Bern seine energiegeladene «zu leise?» Tour mit Alpenklang und Rock.\n\nhttps://eventfrog.ch/de/p/konzerte/pop-rock/hubert-von-goisern-7452262180391505691.html
LOCATION:Volkshaus Zürich
GEO:47.375592;8.527135
URL:https://eventfrog.ch/de/p/konzerte/pop-rock/hubert-von-goisern-7452262180391505691.html
END:VEVENT
END:VCALENDAR