BEGIN:VCALENDAR
VERSION:2.0
PRODID:EVENTFROG//EVENT//ICAL
BEGIN:VEVENT
UID:20260424T063615Z-7452266740715647250@eventfrog.ch
DTSTAMP:20260424T063615Z
DTSTART:20260710T070000Z
DTEND:20260710T100000Z
SUMMARY:Kinderwoche Burgdorf
DESCRIPTION:Kinderwoche in Burgdorf vom 06.-10. Juli 2026 auf der Schützenmatte mit Basteln, Games, Musik, Geschichten, Familienfest und Bistro. Infos auf www.kinderwoche-burgdorf.ch.\n\nhttps://eventfrog.ch/de/p/kinderveranstaltungen/ferienprogramm/kinderwoche-burgdorf-7452266740715647250.html
LOCATION:Schützenmatte, Burgdorf
GEO:47.057507;7.631502
URL:https://eventfrog.ch/de/p/kinderveranstaltungen/ferienprogramm/kinderwoche-burgdorf-7452266740715647250.html
END:VEVENT
END:VCALENDAR