BEGIN:VCALENDAR
VERSION:2.0
PRODID:EVENTFROG//EVENT//ICAL
BEGIN:VEVENT
UID:20260424T132528Z-7452267227846332583@eventfrog.ch
DTSTAMP:20260424T132528Z
DTSTART:20260517T113000Z
DTEND:20260517T121500Z
SUMMARY:Museumstag: Vom Drunter zum Drüber
DESCRIPTION:45 Minturen beste Unterhaltung in schönem Ambiente sitzend, die Vorführung geniessen. \n\nhttps://eventfrog.ch/de/p/fuehrungen-vortraege/vortrag/museumstag-vom-drunter-zum-drueber-7452267227846332583.html
LOCATION:Modemuseum
GEO:47.297790;8.017737
URL:https://eventfrog.ch/de/p/fuehrungen-vortraege/vortrag/museumstag-vom-drunter-zum-drueber-7452267227846332583.html
END:VEVENT
END:VCALENDAR