BEGIN:VCALENDAR
VERSION:2.0
PRODID:EVENTFROG//EVENT//ICAL
BEGIN:VEVENT
UID:20260426T000951Z-7452269782718512613@eventfrog.ch
DTSTAMP:20260426T000951Z
DTSTART:20260523T170000Z
DTEND:20260523T183000Z
SUMMARY:RE:PLAY Ensemble - Einaudi neu interpretiert
DESCRIPTION:Ein Abend zum Eintauchen zwischen Filmmusik und moderner Klassik: Das Re:Play Ensemble interpretiert die Musik von Ludovico Einaudi in einer einzigartigen Besetzung neu. \n\nhttps://eventfrog.ch/de/p/konzerte/weitere-musikrichtungen/re-play-ensemble-einaudi-neu-interpretiert-7452269782718512613.html
LOCATION:Pauluskirche Olten
GEO:47.352100;7.897470
URL:https://eventfrog.ch/de/p/konzerte/weitere-musikrichtungen/re-play-ensemble-einaudi-neu-interpretiert-7452269782718512613.html
END:VEVENT
END:VCALENDAR