BEGIN:VCALENDAR
VERSION:2.0
PRODID:EVENTFROG//EVENT//ICAL
BEGIN:VEVENT
UID:20260424T051553Z-7452272385267369960@eventfrog.ch
DTSTAMP:20260424T051553Z
DTSTART:20260603T150000Z
DTEND:20260603T160000Z
SUMMARY:ATTACCA – «LABOUR» – Ron Katzman
DESCRIPTION:Das Konzert präsentiert Solo- und Kammermusikstücke für verschiedene akustische und elektronische Instrumente, digitale und aufgezeichnete Klänge sowie intermediale Elemente wie Licht und Gestik.\n\nhttps://eventfrog.ch/de/p/konzerte/weitere-musikrichtungen/attacca-labour-ron-katzman-7452272385267369960.html
LOCATION:Gare du Nord – Bahnhof für Neue Musik
GEO:47.567389;7.607131
URL:https://eventfrog.ch/de/p/konzerte/weitere-musikrichtungen/attacca-labour-ron-katzman-7452272385267369960.html
END:VEVENT
END:VCALENDAR