BEGIN:VCALENDAR
VERSION:2.0
PRODID:EVENTFROG//EVENT//ICAL
BEGIN:VEVENT
UID:20260425T194333Z-7452275306734307499@eventfrog.ch
DTSTAMP:20260425T194333Z
DTSTART:20260426T090000Z
DTEND:20260426T160000Z
SUMMARY:Insektenschau - Kunstwerke der Evolution
DESCRIPTION:Die Sonderausstellung umfasst mehr als 2.000 Exemplare aus aller Welt ! \n\nhttps://eventfrog.ch/de/p/kunst-ausstellungen/ausstellung/insektenschau-kunstwerke-der-evolution-7452275306734307499.html
LOCATION:Bürgerhalle Dahl
GEO:51.305094;7.531904
URL:https://eventfrog.ch/de/p/kunst-ausstellungen/ausstellung/insektenschau-kunstwerke-der-evolution-7452275306734307499.html
END:VEVENT
END:VCALENDAR