BEGIN:VCALENDAR
VERSION:2.0
PRODID:EVENTFROG//EVENT//ICAL
BEGIN:VEVENT
UID:20260424T051556Z-7452276147998433297@eventfrog.ch
DTSTAMP:20260424T051556Z
DTSTART:20260608T150000Z
DTEND:20260608T160000Z
SUMMARY:ATTACCA – Konzert 4: Zeitgenössische Interpretation Neue Mus
DESCRIPTION:Das Programm dieses Abends vereint Werke von Mirela Ivičević, Alessandro Perini, Julie Michael, Michael Gordon und Michael Beil und kombiniert Akustik mit Elektronik, Objekten und Performance.\n\nhttps://eventfrog.ch/de/p/konzerte/weitere-musikrichtungen/attacca-konzert-4-zeitgenoessische-interpretation-neue-mus-7452276147998433297.html
LOCATION:Gare du Nord – Bahnhof für Neue Musik
GEO:47.567389;7.607131
URL:https://eventfrog.ch/de/p/konzerte/weitere-musikrichtungen/attacca-konzert-4-zeitgenoessische-interpretation-neue-mus-7452276147998433297.html
END:VEVENT
END:VCALENDAR