BEGIN:VCALENDAR
VERSION:2.0
PRODID:EVENTFROG//EVENT//ICAL
BEGIN:VEVENT
UID:20260424T063603Z-7452278795178898833@eventfrog.ch
DTSTAMP:20260424T063603Z
DTSTART:20260530T143000Z
DTEND:20260530T160000Z
SUMMARY:Painting Your Inner Season with Alejandra Abad
DESCRIPTION:Women explore their menstrual cycle’s inner season through intuitive abstract painting in a gentle, guided workshop by Alejandra Abad.\n\nhttps://eventfrog.ch/en/p/courses-seminars/art-culture/painting-your-inner-season-with-alejandra-abad-7452278795178898833.html
LOCATION:Labör
GEO:47.410852;8.538635
URL:https://eventfrog.ch/en/p/courses-seminars/art-culture/painting-your-inner-season-with-alejandra-abad-7452278795178898833.html
END:VEVENT
END:VCALENDAR