BEGIN:VCALENDAR
VERSION:2.0
PRODID:EVENTFROG//EVENT//ICAL
BEGIN:VEVENT
UID:20260424T081846Z-7452282734305617634@eventfrog.ch
DTSTAMP:20260424T081846Z
DTSTART:20260525T070000Z
DTEND:20260525T110000Z
SUMMARY:Pfingstmatinée
DESCRIPTION:Freuen Sie sich auf ein paar gemütliche, stimmungsvolle und kulinarisch breit gefächerte Stunden.\n\nhttps://eventfrog.ch/de/p/essen-trinken/pfingstmatinee-7452282734305617634.html
LOCATION:Gelände Buechehof
GEO:47.383238;7.931827
URL:https://eventfrog.ch/de/p/essen-trinken/pfingstmatinee-7452282734305617634.html
END:VEVENT
END:VCALENDAR