BEGIN:VCALENDAR
VERSION:2.0
PRODID:EVENTFROG//EVENT//ICAL
BEGIN:VEVENT
UID:20260425T144333Z-7452283008210459362@eventfrog.ch
DTSTAMP:20260425T144333Z
DTSTART:20260621T180000Z
DTEND:20260621T190000Z
SUMMARY:SOMMERBÜHNE: CHOR VOKAL
DESCRIPTION:Der Chor Vokal singt unter Katharina Jud spanische Chormusik mit Gitarrenbegleitung und a cappella im Programm Madrigalillo.\n\nhttps://eventfrog.ch/de/p/konzerte/chor/sommerbuehne-chor-vokal-7452283008210459362.html
LOCATION:Schloss Wartegg
GEO:47.478425;9.530131
URL:https://eventfrog.ch/de/p/konzerte/chor/sommerbuehne-chor-vokal-7452283008210459362.html
END:VEVENT
END:VCALENDAR