BEGIN:VCALENDAR
VERSION:2.0
PRODID:EVENTFROG//EVENT//ICAL
BEGIN:VEVENT
UID:20260424T063716Z-7452314401804164975@eventfrog.ch
DTSTAMP:20260424T063716Z
DTSTART:20260516T143000Z
DTEND:20260516T163000Z
SUMMARY:Make Your Unique Vase - Pottery Workshop
DESCRIPTION:Keramik-Workshop in Zürich: Teilnehmer formen und bemalen eigene Vasen, alle Materialien inklusive.\n\nhttps://eventfrog.ch/en/p/courses-seminars/art-culture/make-your-unique-vase-pottery-workshop-7452314401804164975.html
LOCATION:CeramicsOnWheels Studio
GEO:47.404456;8.548438
URL:https://eventfrog.ch/en/p/courses-seminars/art-culture/make-your-unique-vase-pottery-workshop-7452314401804164975.html
END:VEVENT
END:VCALENDAR