BEGIN:VCALENDAR
VERSION:2.0
PRODID:EVENTFROG//EVENT//ICAL
BEGIN:VEVENT
UID:20260424T063717Z-7452314747108624832@eventfrog.ch
DTSTAMP:20260424T063717Z
DTSTART:20260523T073000Z
SUMMARY:Guided hike in English: Lake Zurich from above
DESCRIPTION:Guided hike from Zurich to Pfannenstiel with waterfall views, castle ruins and panoramic tower, return by train or boat.\n\nhttps://eventfrog.ch/de/p/freizeit-ausfluege/wanderung/guided-hike-in-english-lake-zurich-from-above-7452314747108624832.html
LOCATION:Meilen Bahnhof
GEO:47.269310;8.643643
URL:https://eventfrog.ch/de/p/freizeit-ausfluege/wanderung/guided-hike-in-english-lake-zurich-from-above-7452314747108624832.html
END:VEVENT
END:VCALENDAR