BEGIN:VCALENDAR
VERSION:2.0
PRODID:EVENTFROG//EVENT//ICAL
BEGIN:VEVENT
UID:20260424T181431Z-7452324308821529847@eventfrog.ch
DTSTAMP:20260424T181431Z
DTSTART:20260524T180000Z
SUMMARY:Musica Sacra International - Konzert Augsburg
DESCRIPTION:Beim Konzert von Musica Sacra International in Augsburg, St. Moritz, treten das Kölner Gagaku Ensemble und Polifonija auf.\n\nhttps://eventfrog.ch/de/p/konzerte/kirchenmusik/musica-sacra-international-konzert-augsburg-7452324308821529847.html
LOCATION:St. Moritz
GEO:48.366530;10.897410
URL:https://eventfrog.ch/de/p/konzerte/kirchenmusik/musica-sacra-international-konzert-augsburg-7452324308821529847.html
END:VEVENT
END:VCALENDAR