BEGIN:VCALENDAR
VERSION:2.0
PRODID:EVENTFROG//EVENT//ICAL
BEGIN:VEVENT
UID:20260424T063612Z-7452328628782677327@eventfrog.ch
DTSTAMP:20260424T063612Z
DTSTART:20260509T190000Z
DTEND:20260510T040000Z
SUMMARY:Jhon Lozano - Celebrando el día de las madres
DESCRIPTION:Jhon Lozano, leyenda de salsa, actúa en Zürich el 9 mayo con DJs David Jaramillo y Andrés Soto en vivo.\n\nhttps://eventfrog.ch/de/p/konzerte/latin/jhon-lozano-celebrando-el-dia-de-las-madres-7452328628782677327.html
LOCATION:Fuego Latin Bar
GEO:47.380273;8.526285
URL:https://eventfrog.ch/de/p/konzerte/latin/jhon-lozano-celebrando-el-dia-de-las-madres-7452328628782677327.html
END:VEVENT
END:VCALENDAR