BEGIN:VCALENDAR
VERSION:2.0
PRODID:EVENTFROG//EVENT//ICAL
BEGIN:VEVENT
UID:20260425T114740Z-7452371853652326020@eventfrog.ch
DTSTAMP:20260425T114740Z
DTSTART:20260606T163000Z
DTEND:20260607T000000Z
SUMMARY:D'Sunneblueme CD Vorstellung / Présentation de notre CD
DESCRIPTION:CD Taufe Ländlertrio D'Sunneblueme\n\nhttps://eventfrog.ch/de/p/konzerte/folk/d-sunneblueme-cd-vorstellung-presentation-de-notre-cd-7452371853652326020.html
LOCATION:Restaurant BINZ
GEO:47.251014;7.427495
URL:https://eventfrog.ch/de/p/konzerte/folk/d-sunneblueme-cd-vorstellung-presentation-de-notre-cd-7452371853652326020.html
END:VEVENT
END:VCALENDAR