BEGIN:VCALENDAR
VERSION:2.0
PRODID:EVENTFROG//EVENT//ICAL
BEGIN:VEVENT
UID:20260424T051555Z-7452382986228483682@eventfrog.ch
DTSTAMP:20260424T051555Z
DTSTART:20260905T183000Z
DTEND:20260905T203000Z
SUMMARY:Kilmister
DESCRIPTION:KILMISTER zeigen 2026 mit neuem Quartett und frischer Energie kompromisslosen Rock'n'Roll als Hommage an Lemmy.\n\nhttps://eventfrog.ch/de/p/konzerte/hard-rock-heavy-metal/kilmister-7452382986228483682.html
LOCATION:Atlantis
GEO:47.552000;7.590570
URL:https://eventfrog.ch/de/p/konzerte/hard-rock-heavy-metal/kilmister-7452382986228483682.html
END:VEVENT
END:VCALENDAR