BEGIN:VCALENDAR
VERSION:2.0
PRODID:EVENTFROG//EVENT//ICAL
BEGIN:VEVENT
UID:20260424T200123Z-7452435946786585786@eventfrog.ch
DTSTAMP:20260424T200123Z
DTSTART:20260509T120000Z
DTEND:20260509T170000Z
SUMMARY:Tag der offenen Tür – 80 Jahre LG Illertissen
DESCRIPTION:Am 9. Mai lädt die Liebenzeller Gemeinschaft Illertissen ab 14 Uhr zum Tag der offenen Tür mit Fest, Kinderprogramm und Grillwürstchen.\n\nhttps://eventfrog.ch/de/p/religion-feiertage/fest-feiertag/tag-der-offenen-tuer-80-jahre-lg-illertissen-7452435946786585786.html
LOCATION:Liebenzeller Gemeinschaft Illertissen
GEO:48.216992;10.109979
URL:https://eventfrog.ch/de/p/religion-feiertage/fest-feiertag/tag-der-offenen-tuer-80-jahre-lg-illertissen-7452435946786585786.html
END:VEVENT
END:VCALENDAR