BEGIN:VCALENDAR
VERSION:2.0
PRODID:EVENTFROG//EVENT//ICAL
BEGIN:VEVENT
UID:20260424T051620Z-7452445358121080617@eventfrog.ch
DTSTAMP:20260424T051620Z
DTSTART:20260429T170000Z
DTEND:20260429T183000Z
SUMMARY:Lakeside Pilates
DESCRIPTION:Lakeside Pilates\n\nhttps://eventfrog.ch/de/p/sport-fitness/yoga/lakeside-pilates-7452445358121080617.html
LOCATION:Rentenwiese
GEO:47.363149;8.536204
URL:https://eventfrog.ch/de/p/sport-fitness/yoga/lakeside-pilates-7452445358121080617.html
END:VEVENT
END:VCALENDAR