BEGIN:VCALENDAR
VERSION:2.0
PRODID:EVENTFROG//EVENT//ICAL
BEGIN:VEVENT
UID:20260424T051620Z-7452447104528591242@eventfrog.ch
DTSTAMP:20260424T051620Z
DTSTART:20260528T160000Z
DTEND:20260528T215900Z
SUMMARY:20 Years of Bocconi Alumni Geneva  Anniversary Night
DESCRIPTION:Join us as we mark 20 years of Bocconi Alumni Geneva, an evening by the lake, bringing our community together in one of the city’s most distinctive settings.\n\nhttps://eventfrog.ch/fr/p/soirees-fetes/autres-fetes/20-years-of-bocconi-alumni-geneva-anniversary-night-7452447104528591242.html
LOCATION:Société Nautique de Genève
GEO:46.213381;6.173150
URL:https://eventfrog.ch/fr/p/soirees-fetes/autres-fetes/20-years-of-bocconi-alumni-geneva-anniversary-night-7452447104528591242.html
END:VEVENT
END:VCALENDAR