BEGIN:VCALENDAR
VERSION:2.0
PRODID:EVENTFROG//EVENT//ICAL
BEGIN:VEVENT
UID:20260424T081847Z-7452450292912667848@eventfrog.ch
DTSTAMP:20260424T081847Z
DTSTART:20260509T180000Z
SUMMARY:B59 Royal Tunes w/ Shittles
DESCRIPTION: Party Music for Party People in der Bar.\n\nhttps://eventfrog.ch/de/p/partys/charts-open-format/b59-royal-tunes-w-shittles-7452450292912667848.html
LOCATION:Bar59
GEO:47.041981;8.311045
URL:https://eventfrog.ch/de/p/partys/charts-open-format/b59-royal-tunes-w-shittles-7452450292912667848.html
END:VEVENT
END:VCALENDAR