BEGIN:VCALENDAR
VERSION:2.0
PRODID:EVENTFROG//EVENT//ICAL
BEGIN:VEVENT
UID:20260424T063659Z-7452620664077342429@eventfrog.ch
DTSTAMP:20260424T063659Z
DTSTART:20260429T080000Z
DTEND:20260429T093000Z
SUMMARY:German Coffee Chat
DESCRIPTION:Practise your German in a relaxed, safe atmosphere — expats, beginners, and kids are all welcome. Come for the coffee, stay for the conversations.\nOrganised by Swisslingo Academy, this is our second C\n\nhttps://eventfrog.ch/de/p/kurse-seminare/sprachen/german-coffee-chat-7452620664077342429.html
LOCATION:SHOKO Brunch & Bar
GEO:47.193004;8.851766
URL:https://eventfrog.ch/de/p/kurse-seminare/sprachen/german-coffee-chat-7452620664077342429.html
END:VEVENT
END:VCALENDAR