BEGIN:VCALENDAR
VERSION:2.0
PRODID:EVENTFROG//EVENT//ICAL
BEGIN:VEVENT
UID:20260424T075608Z-7452623339393175656@eventfrog.ch
DTSTAMP:20260424T075608Z
DTSTART:20260516T180000Z
SUMMARY:My Vibez w/ Tiago
DESCRIPTION:DJ Tiago "The ClubRocker"\n\nhttps://eventfrog.ch/de/p/partys/charts-open-format/my-vibez-w-tiago-7452623339393175656.html
LOCATION:Bar59
GEO:47.041981;8.311045
URL:https://eventfrog.ch/de/p/partys/charts-open-format/my-vibez-w-tiago-7452623339393175656.html
END:VEVENT
END:VCALENDAR