BEGIN:VCALENDAR
VERSION:2.0
PRODID:EVENTFROG//EVENT//ICAL
BEGIN:VEVENT
UID:20260424T060800Z-7452631084548816116@eventfrog.ch
DTSTAMP:20260424T060800Z
DTSTART:20260705T130000Z
SUMMARY:Rundgang durch die Ausstellung mit den Künstler:innen
DESCRIPTION:Ausstellungsrundgang mit den Künstler:innen von NOT NOT UTOPIA\n\nhttps://eventfrog.ch/de/p/kunst-ausstellungen/finissage/rundgang-durch-die-ausstellung-mit-den-kuenstler-innen-7452631084548816116.html
LOCATION:oxyd – Kunsträume
GEO:47.498011;8.722655
URL:https://eventfrog.ch/de/p/kunst-ausstellungen/finissage/rundgang-durch-die-ausstellung-mit-den-kuenstler-innen-7452631084548816116.html
END:VEVENT
END:VCALENDAR