BEGIN:VCALENDAR
VERSION:2.0
PRODID:EVENTFROG//EVENT//ICAL
BEGIN:VEVENT
UID:20260426T022731Z-7452644320941747375@eventfrog.ch
DTSTAMP:20260426T022731Z
DTSTART:20260515T200000Z
DTEND:20260516T050000Z
SUMMARY:lessing13
DESCRIPTION:Lessing13 an der Ausstellung21. \nDas unkommerzielle Partylabel bringt seine gewohnt hohe Soundqualität ins Nest. \n\nhttps://eventfrog.ch/de/p/partys/house-techno/lessing13-7452644320941747375.html
LOCATION:Kauz
GEO:47.381504;8.536924
URL:https://eventfrog.ch/de/p/partys/house-techno/lessing13-7452644320941747375.html
END:VEVENT
END:VCALENDAR