BEGIN:VCALENDAR
VERSION:2.0
PRODID:EVENTFROG//EVENT//ICAL
BEGIN:VEVENT
UID:20260425T180747Z-7452647610324622682@eventfrog.ch
DTSTAMP:20260425T180747Z
DTSTART:20260613T160000Z
DTEND:20260613T180000Z
SUMMARY:ANDREAS HAMMER: Lieferandi Knackige Monologe für alle ab 15
DESCRIPTION:Andreas Hammer im Ein-Personenstück «LieferAndi»\nEr zeigt die Mechanismen und Gefahren des Faschismus auf, ernsthaft und mit Humor!\n\nhttps://eventfrog.ch/de/p/theater-buehne/theater/andreas-hammer-lieferandi-knackige-monologe-fuer-alle-ab-15-7452647610324622682.html
LOCATION:Theater im Hinterhof
GEO:53.466727;9.689307
URL:https://eventfrog.ch/de/p/theater-buehne/theater/andreas-hammer-lieferandi-knackige-monologe-fuer-alle-ab-15-7452647610324622682.html
END:VEVENT
END:VCALENDAR