BEGIN:VCALENDAR
VERSION:2.0
PRODID:EVENTFROG//EVENT//ICAL
BEGIN:VEVENT
UID:20260424T041441Z-7452647837555258648@eventfrog.ch
DTSTAMP:20260424T041441Z
DTSTART:20260510T140000Z
DTEND:20260510T153000Z
SUMMARY:Eins zwei drei vier Eckstein
DESCRIPTION:Kerstin Reichelt zeigt mit der Theaterwerkstatt STiNE ein 30-minütiges Kindertheater mit altbekannten Reimen, Liedern und Spielen zum Mitmachen PLUS einer theaterpädagogischen Aktion.\n\nhttps://eventfrog.ch/de/p/kinderveranstaltungen/kindertheater/eins-zwei-drei-vier-eckstein-7452647837555258648.html
LOCATION:Brandenburger Str. 9-10
GEO:52.132775;11.629728
URL:https://eventfrog.ch/de/p/kinderveranstaltungen/kindertheater/eins-zwei-drei-vier-eckstein-7452647837555258648.html
END:VEVENT
END:VCALENDAR