BEGIN:VCALENDAR
VERSION:2.0
PRODID:EVENTFROG//EVENT//ICAL
BEGIN:VEVENT
UID:20260425T123301Z-7452654136770693482@eventfrog.ch
DTSTAMP:20260425T123301Z
DTSTART:20260614T120000Z
DTEND:20260614T140000Z
SUMMARY:Rafiki - Loslassen bedeutet frei zu sein HJÖRDIS LEVNAJIC
DESCRIPTION:Hjördis präsentiert eine interaktive Lesung mit Quiz, Film und Ausstellung zu ihrer Reise durch zehn afrikanische Länder.\n\nhttps://eventfrog.ch/de/p/theater-buehne/lesung/rafiki-loslassen-bedeutet-frei-zu-sein-hjoerdis-levnajic-7452654136770693482.html
LOCATION:Theater im Hinterhof
GEO:53.466727;9.689307
URL:https://eventfrog.ch/de/p/theater-buehne/lesung/rafiki-loslassen-bedeutet-frei-zu-sein-hjoerdis-levnajic-7452654136770693482.html
END:VEVENT
END:VCALENDAR