BEGIN:VCALENDAR
VERSION:2.0
PRODID:EVENTFROG//EVENT//ICAL
BEGIN:VEVENT
UID:20260424T055437Z-7452659722803479746@eventfrog.ch
DTSTAMP:20260424T055437Z
DTSTART:20260510T100000Z
DTEND:20260510T210000Z
SUMMARY:Muttertag in der Bowling & Billard Lounge
DESCRIPTION:Muttertag • Für alle Mütter: Gratis Leihschuhe • Lillet Wild Berry oder Aperol Spritz nur 5,- \n\nhttps://eventfrog.ch/de/p/freizeit-ausfluege/ausflug/muttertag-in-der-bowling-billard-lounge-7452659722803479746.html
LOCATION:Bowling & Billard Lounge Stuttgart-Möhringen
GEO:48.726937;9.134253
URL:https://eventfrog.ch/de/p/freizeit-ausfluege/ausflug/muttertag-in-der-bowling-billard-lounge-7452659722803479746.html
END:VEVENT
END:VCALENDAR