BEGIN:VCALENDAR
VERSION:2.0
PRODID:EVENTFROG//EVENT//ICAL
BEGIN:VEVENT
UID:20260424T140857Z-7452660093718392747@eventfrog.ch
DTSTAMP:20260424T140857Z
DTSTART:20260505T140000Z
DTEND:20260510T200000Z
SUMMARY:32. Jüdisches Filmfestival Berlin Brandenburg
DESCRIPTION:Das JFBB zeigt vom 5. bis 10. Mai 2026 60 Filme aus 22 Ländern mit vielfältigen jüdischen Perspektiven und lädt zu Gesprächen ein.\n\nhttps://eventfrog.ch/de/p/festivals/film/32-juedisches-filmfestival-berlin-brandenburg-7452660093718392747.html
LOCATION:Berlin und Brandenburg
URL:https://eventfrog.ch/de/p/festivals/film/32-juedisches-filmfestival-berlin-brandenburg-7452660093718392747.html
END:VEVENT
END:VCALENDAR