BEGIN:VCALENDAR
VERSION:2.0
PRODID:EVENTFROG//EVENT//ICAL
BEGIN:VEVENT
UID:20260424T063644Z-7452662622191623707@eventfrog.ch
DTSTAMP:20260424T063644Z
DTSTART:20260508T160000Z
SUMMARY:Wir sind alt und nicht stumm
DESCRIPTION:Diskussion: StammPlus mit DOL & SOL und Omas gegen Rechts. Eintritt frei, Kollekte.\n\n\nhttps://eventfrog.ch/de/p/fuehrungen-vortraege/podium/wir-sind-alt-und-nicht-stumm-7452662622191623707.html
LOCATION:Karl der Grosse - Erkerzimmer
GEO:47.370552;8.545169
URL:https://eventfrog.ch/de/p/fuehrungen-vortraege/podium/wir-sind-alt-und-nicht-stumm-7452662622191623707.html
END:VEVENT
END:VCALENDAR