BEGIN:VCALENDAR
VERSION:2.0
PRODID:EVENTFROG//EVENT//ICAL
BEGIN:VEVENT
UID:20260424T063641Z-7452662840630987453@eventfrog.ch
DTSTAMP:20260424T063641Z
DTSTART:20260524T190000Z
DTEND:20260524T230000Z
SUMMARY:ENSEMBLE NIST-NAH
DESCRIPTION:Das Ensemble Nist-Nah um Will Guthrie verbindet Gamelan mit experimenteller Klangpraxis zu einzigartiger, dicht schwingender Musik.\n\nhttps://eventfrog.ch/de/p/konzerte/weitere-musikrichtungen/ensemble-nist-nah-7452662840630987453.html
LOCATION:Kunstraum Walcheturm
GEO:47.377718;8.530581
URL:https://eventfrog.ch/de/p/konzerte/weitere-musikrichtungen/ensemble-nist-nah-7452662840630987453.html
END:VEVENT
END:VCALENDAR