BEGIN:VCALENDAR
VERSION:2.0
PRODID:EVENTFROG//EVENT//ICAL
BEGIN:VEVENT
UID:20260424T063706Z-7452665125092218556@eventfrog.ch
DTSTAMP:20260424T063706Z
DTSTART:20260820T181500Z
SUMMARY:Raphael M. Bonelli "Kopflos"
DESCRIPTION:Haben wir den Verstand verloren? Wie Denken funktioniert. Warum wir es verlernt haben. Und wie wir es zurückgewinnen.\n\nhttps://eventfrog.ch/de/p/kunst-ausstellungen/weitere-kunstveranstaltungen/raphael-m-bonelli-kopflos-7452665125092218556.html
LOCATION:Konservi
GEO:47.352300;8.159470
URL:https://eventfrog.ch/de/p/kunst-ausstellungen/weitere-kunstveranstaltungen/raphael-m-bonelli-kopflos-7452665125092218556.html
END:VEVENT
END:VCALENDAR