BEGIN:VCALENDAR
VERSION:2.0
PRODID:EVENTFROG//EVENT//ICAL
BEGIN:VEVENT
UID:20260425T155823Z-7452686793978206005@eventfrog.ch
DTSTAMP:20260425T155823Z
DTSTART:20260523T190000Z
SUMMARY:MOKKA METAL: AZIZ & CROOKED EYES
DESCRIPTION:MOKKA METAL:\nAZIZ & CROOKED EYES\nLAUTE MUSIK AUS THUN  STONER METAL PROG\n\nhttps://eventfrog.ch/de/p/konzerte/hard-rock-heavy-metal/mokka-metal-aziz-crooked-eyes-7452686793978206005.html
LOCATION:CAFE BAR MOKKA
GEO:46.760000;7.623977
URL:https://eventfrog.ch/de/p/konzerte/hard-rock-heavy-metal/mokka-metal-aziz-crooked-eyes-7452686793978206005.html
END:VEVENT
END:VCALENDAR