BEGIN:VCALENDAR
VERSION:2.0
PRODID:EVENTFROG//EVENT//ICAL
BEGIN:VEVENT
UID:20260424T055437Z-7452697395475823367@eventfrog.ch
DTSTAMP:20260424T055437Z
DTSTART:20260526T180000Z
DTEND:20260527T000000Z
SUMMARY:DIAZ BROTHERS Support: Neckarions
DESCRIPTION:Die Diaz Brothers und Neckarions begeistern am 26. Mai ab 21 Uhr mit melodischem Streetpunk live auf der Bühne.\n\nhttps://eventfrog.ch/de/p/konzerte/punk/diaz-brothers-support-neckarions-7452697395475823367.html
LOCATION:Esslinger Str. 2
GEO:48.773667;9.181330
URL:https://eventfrog.ch/de/p/konzerte/punk/diaz-brothers-support-neckarions-7452697395475823367.html
END:VEVENT
END:VCALENDAR