BEGIN:VCALENDAR
VERSION:2.0
PRODID:EVENTFROG//EVENT//ICAL
BEGIN:VEVENT
UID:20260425T205432Z-7452699313149359775@eventfrog.ch
DTSTAMP:20260425T205432Z
DTSTART:20261216T140000Z
DTEND:20261216T190000Z
SUMMARY:HOUSE OF MAGIC
DESCRIPTION:Über 110 Exponate laden in 19 Räumen ein, Magie und Wissenschaft zu entdecken und Illusionen mit viel Action zu erleben.\n\nhttps://eventfrog.ch/de/p/freizeit-ausfluege/sonstige-veranstaltungen/house-of-magic-7452699313149359775.html
LOCATION:HOUSE OF MAGIC
GEO:51.491291;6.877462
URL:https://eventfrog.ch/de/p/freizeit-ausfluege/sonstige-veranstaltungen/house-of-magic-7452699313149359775.html
END:VEVENT
END:VCALENDAR