BEGIN:VCALENDAR
VERSION:2.0
PRODID:EVENTFROG//EVENT//ICAL
BEGIN:VEVENT
UID:20260425T162020Z-7452706781740932068@eventfrog.ch
DTSTAMP:20260425T162020Z
DTSTART:20260725T160000Z
SUMMARY:Zirkus Chnopf - UFE
DESCRIPTION:UFE ist die neuste Produktion vom Zirkus Chnopf mit 5 Profis und 5 Jugendlichen und jungen Artist:innen zwischen 14 und 23 - unter freiem Himmel.\n\nhttps://eventfrog.ch/de/p/musicals-shows/zirkus/zirkus-chnopf-ufe-7452706781740932068.html
LOCATION:Place du Cirque Chnopf
GEO:47.274030;7.243124
URL:https://eventfrog.ch/de/p/musicals-shows/zirkus/zirkus-chnopf-ufe-7452706781740932068.html
END:VEVENT
END:VCALENDAR