BEGIN:VCALENDAR
VERSION:2.0
PRODID:EVENTFROG//EVENT//ICAL
BEGIN:VEVENT
UID:20260424T035343Z-7452711381579623394@eventfrog.ch
DTSTAMP:20260424T035343Z
DTSTART:20270206T090000Z
DTEND:20270213T160000Z
SUMMARY:Yoga Ferien in Sri Lanka
DESCRIPTION:Vom 6. bis 13. Februar 2027 gibt es im Soul House Sri Lanka eine Woche mit Yoga, Meditation, Ayurveda und Naturerlebnissen.\n\nhttps://eventfrog.ch/de/p/gesundheit-spiritualitaet/wellness/yoga-ferien-in-sri-lanka-7452711381579623394.html
LOCATION:Yoga Academy Winterthur
GEO:47.496129;8.715422
URL:https://eventfrog.ch/de/p/gesundheit-spiritualitaet/wellness/yoga-ferien-in-sri-lanka-7452711381579623394.html
END:VEVENT
END:VCALENDAR