BEGIN:VCALENDAR
VERSION:2.0
PRODID:EVENTFROG//EVENT//ICAL
BEGIN:VEVENT
UID:20260425T113242Z-7452717875549239275@eventfrog.ch
DTSTAMP:20260425T113242Z
DTSTART:20260509T210000Z
DTEND:20260510T020000Z
SUMMARY:BLINK by 22.live w/ MINSHEY, LAYLA,  KOBRAGYPSY, MIRINJO uvm
DESCRIPTION:Im Sous Soul erwartet euch Hip-Hop, RnB, Afro, Trap, Baile Funk & French. An den Decks: MINSHEY, LAYLA, KOBRAGYPSY, NELSANG & MIRINJO. Motto: Y2K – pure 2000er Vibes.\n\n\nhttps://eventfrog.ch/de/p/partys/hip-hop-rap/blink-by-22-live-w-minshey-layla-kobragypsy-mirinjo-uvm-7452717875549239275.html
LOCATION:SOUS SOUL
GEO:46.948336;7.443078
URL:https://eventfrog.ch/de/p/partys/hip-hop-rap/blink-by-22-live-w-minshey-layla-kobragypsy-mirinjo-uvm-7452717875549239275.html
END:VEVENT
END:VCALENDAR