BEGIN:VCALENDAR
VERSION:2.0
PRODID:EVENTFROG//EVENT//ICAL
BEGIN:VEVENT
UID:20260424T132008Z-7452733149312775159@eventfrog.ch
DTSTAMP:20260424T132008Z
DTSTART:20260702T173000Z
DTEND:20260702T200000Z
SUMMARY:Farragut North
DESCRIPTION:FARRAGUT NORTH portrays the ruthless strategies and shifting loyalties behind a US presidential primary campaign.\n\nhttps://eventfrog.ch/en/p/theatre-stage/theatre/farragut-north-7452733149312775159.html
LOCATION:Millers
GEO:47.351585;8.561410
URL:https://eventfrog.ch/en/p/theatre-stage/theatre/farragut-north-7452733149312775159.html
END:VEVENT
END:VCALENDAR